BEGIN:VCALENDAR
PRODID:-//event//iCal4j 1.0//EN
CALSCALE:GREGORIAN
BEGIN:VEVENT
DTSTAMP:20260422T195037Z
DTSTART:20260416T190000Z
DTEND:20260416T230000Z
SUMMARY:stand-together--veteran-community-event
LOCATION:Oklahoma National Guard Armory 800 Thunderbird Rd Chandler OK 74
 834
END:VEVENT
END:VCALENDAR
