BEGIN:VCALENDAR
PRODID:-//event//iCal4j 1.0//EN
CALSCALE:GREGORIAN
BEGIN:VEVENT
DTSTAMP:20260422T195142Z
DTSTART:20260418T180000Z
DTEND:20260418T190000Z
SUMMARY:america-250-memorial-park-bench-dedication
LOCATION:Oklahoma Veterans Cemetery (Union Soldiers Cemetery) 2312 NE 36t
 h St Oklahoma City OK 73111
END:VEVENT
END:VCALENDAR
