BEGIN:VCALENDAR
PRODID:-//event//iCal4j 1.0//EN
CALSCALE:GREGORIAN
BEGIN:VEVENT
DTSTAMP:20260420T030930Z
DTSTART:20260625T140000Z
DTEND:20260625T210000Z
SUMMARY:june-25-2026
LOCATION:220 NE 28th Street  Oklahoma City Oklahoma  73105
END:VEVENT
END:VCALENDAR
