BEGIN:VCALENDAR
PRODID:-//event//iCal4j 1.0//EN
CALSCALE:GREGORIAN
BEGIN:VEVENT
DTSTAMP:20260420T032416Z
DTSTART:20260409T140000Z
DTEND:20260409T210000Z
SUMMARY:april-9-2026
LOCATION:220 NE 28th Street  Oklahoma City Oklahoma  73105
END:VEVENT
END:VCALENDAR
