BEGIN:VCALENDAR
PRODID:-//event//iCal4j 1.0//EN
CALSCALE:GREGORIAN
BEGIN:VEVENT
DTSTAMP:20260422T050321Z
DTSTART:20261105T220000Z
DTEND:20261106T000000Z
SUMMARY:november-5-2025
LOCATION:6808 S. 107th E Ave  Tulsa OK  74133
END:VEVENT
END:VCALENDAR
