BEGIN:VCALENDAR
PRODID:-//event//iCal4j 1.0//EN
CALSCALE:GREGORIAN
BEGIN:VEVENT
DTSTAMP:20260422T094137Z
DTSTART:20260717T210000Z
DTEND:20260717T230000Z
SUMMARY:july-17-2025
LOCATION:1001 N. Grand Avenue  Tahlequah OK  74464
END:VEVENT
END:VCALENDAR
