BEGIN:VCALENDAR
PRODID:-//event//iCal4j 1.0//EN
CALSCALE:GREGORIAN
BEGIN:VEVENT
DTSTAMP:20260422T023430Z
DTSTART:20260123T163000Z
DTEND:20260123T183000Z
SUMMARY:january-23-2026
LOCATION:2800 N. Lincoln Blvd.  Oklahoma City OK  73105
END:VEVENT
END:VCALENDAR
