BEGIN:VCALENDAR
PRODID:-//event//iCal4j 1.0//EN
CALSCALE:GREGORIAN
BEGIN:VEVENT
DTSTAMP:20260421T231008Z
DTSTART:20251106T183000Z
DTEND:20251109T023000Z
SUMMARY:november-6-8--2025
LOCATION: 6808 S 107th E Ave  Tulsa Oklahoma 74133
END:VEVENT
END:VCALENDAR
