BEGIN:VCALENDAR
PRODID:-//event//iCal4j 1.0//EN
CALSCALE:GREGORIAN
BEGIN:VEVENT
DTSTAMP:20260421T230912Z
DTSTART:20250327T173000Z
DTEND:20250330T013000Z
SUMMARY:march-27-29--2025
LOCATION:2501 Conference Drive  Norman OK  73069
END:VEVENT
END:VCALENDAR
