BEGIN:VCALENDAR
PRODID:-//event//iCal4j 1.0//EN
CALSCALE:GREGORIAN
BEGIN:VEVENT
DTSTAMP:20260424T185226Z
DTSTART:20260504T150000Z
DTEND:20260504T180000Z
SUMMARY:sapulpa-2026-05-04
LOCATION:Oklahoma Works 1700 S. Main St\, Sapulpa\, OK 74066  
END:VEVENT
END:VCALENDAR
