BEGIN:VCALENDAR
PRODID:-//event//iCal4j 1.0//EN
CALSCALE:GREGORIAN
BEGIN:VEVENT
DTSTAMP:20260421T180241Z
DTSTART:20260520T150000Z
DTEND:20260520T180000Z
SUMMARY:pryor-2026-05-20
LOCATION:Oklahoma Works 403 E Graham Ave\, Pryor\, OK 74361  
END:VEVENT
END:VCALENDAR
