BEGIN:VCALENDAR
PRODID:-//event//iCal4j 1.0//EN
CALSCALE:GREGORIAN
BEGIN:VEVENT
DTSTAMP:20260421T180240Z
DTSTART:20260506T140000Z
DTEND:20260506T210000Z
SUMMARY:prorecruiters-2026-05-06
LOCATION:ProRecruiters (Park Towers) 5314 S Yale Ave # 305\, Tulsa\, OK 7
 4135  
END:VEVENT
END:VCALENDAR
