BEGIN:VCALENDAR
PRODID:-//event//iCal4j 1.0//EN
CALSCALE:GREGORIAN
BEGIN:VEVENT
DTSTAMP:20260424T185254Z
DTSTART:20260504T150000Z
DTEND:20260504T190000Z
SUMMARY:pharaoh-2026-05-04
LOCATION:Oklahoma Works 751 W. Willow Ste #25 Duncan\, OK 73533  
END:VEVENT
END:VCALENDAR
