BEGIN:VCALENDAR
PRODID:-//event//iCal4j 1.0//EN
CALSCALE:GREGORIAN
BEGIN:VEVENT
DTSTAMP:20260424T002021Z
DTSTART:20260511T150000Z
DTEND:20260511T180000Z
SUMMARY:okc-2026-05-11
LOCATION:Oklahoma Works 5005 N. Lincoln Blvd Oklahoma City\, OK 73105  
END:VEVENT
END:VCALENDAR
