BEGIN:VCALENDAR
PRODID:-//event//iCal4j 1.0//EN
CALSCALE:GREGORIAN
BEGIN:VEVENT
DTSTAMP:20260424T183513Z
DTSTART:20260506T133000Z
DTEND:20260506T193000Z
SUMMARY:francis-tuttle-2026-05-06
LOCATION:Francis Tuttle Reno Campus 7301 W. Reno Ave Oklahoma City\, OK 7
 3127  
END:VEVENT
END:VCALENDAR
