BEGIN:VCALENDAR
PRODID:-//event//iCal4j 1.0//EN
CALSCALE:GREGORIAN
BEGIN:VEVENT
DTSTAMP:20260423T161907Z
DTSTART:20260312T160000Z
DTEND:20260312T180000Z
SUMMARY:okmulgee-2026-03-12
LOCATION:Oklahoma Works 1601 S. Wood Dr\, Okmulgee\, OK 74447  
END:VEVENT
END:VCALENDAR
