BEGIN:VCALENDAR
PRODID:-//event//iCal4j 1.0//EN
CALSCALE:GREGORIAN
BEGIN:VEVENT
DTSTAMP:20260423T142437Z
DTSTART:20260310T150000Z
DTEND:20260310T180000Z
SUMMARY:okc-2026-03-10
LOCATION:Metro Plex Conference Center 1900 Springlake Drive Oklahoma City
 \, OK 73111  
END:VEVENT
END:VCALENDAR
