BEGIN:VCALENDAR
PRODID:-//event//iCal4j 1.0//EN
CALSCALE:GREGORIAN
BEGIN:VEVENT
DTSTAMP:20260424T002021Z
DTSTART:20260428T160000Z
DTEND:20260428T200000Z
SUMMARY:vets-2026-04-28
LOCATION:    
END:VEVENT
END:VCALENDAR
