BEGIN:VCALENDAR
PRODID:-//event//iCal4j 1.0//EN
CALSCALE:GREGORIAN
BEGIN:VEVENT
DTSTAMP:20260421T232536Z
DTSTART:20260403T130000Z
DTEND:20260403T220000Z
SUMMARY:tricorps-2026-04-03
LOCATION:    
END:VEVENT
END:VCALENDAR
