BEGIN:VCALENDAR
PRODID:-//event//iCal4j 1.0//EN
CALSCALE:GREGORIAN
BEGIN:VEVENT
DTSTAMP:20260423T222622Z
DTSTART:20260427T150000Z
DTEND:20260427T190000Z
SUMMARY:snelling-2026-04-27
LOCATION:Oklahoma Works 4209 W Hwy 70\, Durant\, OK 74701  
END:VEVENT
END:VCALENDAR
