BEGIN:VCALENDAR
PRODID:-//event//iCal4j 1.0//EN
CALSCALE:GREGORIAN
BEGIN:VEVENT
DTSTAMP:20260422T230844Z
DTSTART:20260415T150000Z
DTEND:20260415T190000Z
SUMMARY:muskogee-2026-04-15
LOCATION:Oklahoma Works 2404 W. Shawnee St. Muskogee\, OK 74401  
END:VEVENT
END:VCALENDAR
