BEGIN:VCALENDAR
PRODID:-//event//iCal4j 1.0//EN
CALSCALE:GREGORIAN
BEGIN:VEVENT
DTSTAMP:20260420T032415Z
DTSTART:20260401T140000Z
DTEND:20260401T220000Z
SUMMARY:express-2026-04-01
LOCATION:Oklahoma Works 205 W Chickasha Ave\, Suite 5\,  Chickasha\, OK 7
 3018  
END:VEVENT
END:VCALENDAR
