BEGIN:VCALENDAR
PRODID:-//event//iCal4j 1.0//EN
CALSCALE:GREGORIAN
BEGIN:VEVENT
DTSTAMP:20260423T042530Z
DTSTART:20260408T180000Z
DTEND:20260408T200000Z
SUMMARY:apr--8--2026-tulsa-cdrb-meeting
LOCATION:2829 S. Sheridan Road  Tulsa OK 74129
END:VEVENT
END:VCALENDAR
