BEGIN:VCALENDAR
PRODID:-//event//iCal4j 1.0//EN
CALSCALE:GREGORIAN
BEGIN:VEVENT
DTSTAMP:20260421T232515Z
DTSTART:20260421T220000Z
DTEND:20260421T233000Z
SUMMARY:2026-workers--memorial-day-vigil
LOCATION:OKANA Resort & Conference Center (Sunset Room) 639 First America
 ns Blvd  Oklahoma City Oklahoma 73129
END:VEVENT
END:VCALENDAR
