BEGIN:VCALENDAR
PRODID:-//event//iCal4j 1.0//EN
CALSCALE:GREGORIAN
BEGIN:VEVENT
DTSTAMP:20260425T011649Z
DTSTART:20260507T190000Z
DTEND:20260507T210000Z
SUMMARY:understanding-theories-of-change--foundations-for-abusive-partne
LOCATION:    
END:VEVENT
END:VCALENDAR
