BEGIN:VCALENDAR
PRODID:-//event//iCal4j 1.0//EN
CALSCALE:GREGORIAN
BEGIN:VEVENT
DTSTAMP:20260423T180352Z
DTSTART:20260818T130000Z
DTEND:20260820T220000Z
SUMMARY:sfst
LOCATION:315 SW 5th St.  Lawton OK 73501
END:VEVENT
END:VCALENDAR
