BEGIN:VCALENDAR
PRODID:-//event//iCal4j 1.0//EN
CALSCALE:GREGORIAN
BEGIN:VEVENT
DTSTAMP:20260420T213700Z
DTSTART:20260429T140000Z
DTEND:20260429T200000Z
SUMMARY:lethality-assessment-protocol--lap---response--risk--responsibil
LOCATION:Red River Technology Center 3300 W Bois D'Arc Ave Duncan OK 7353
 3
END:VEVENT
END:VCALENDAR
