BEGIN:VCALENDAR
PRODID:-//event//iCal4j 1.0//EN
CALSCALE:GREGORIAN
BEGIN:VEVENT
DTSTAMP:20260423T193023Z
DTSTART:20260319T140000Z
DTEND:20260319T220000Z
SUMMARY:tactical-finance-class-2-00
LOCATION:Southern Tech 100 Chuck Sewell Drive Marietta OK 73448
END:VEVENT
END:VCALENDAR
