BEGIN:VCALENDAR
PRODID:-//event//iCal4j 1.0//EN
CALSCALE:GREGORIAN
BEGIN:VEVENT
DTSTAMP:20260423T193018Z
DTSTART:20250828T140000Z
DTEND:20250828T220000Z
SUMMARY:tactical-finance-class-2-0
LOCATION:Southern Tech 100 Chuck Sewell Dr Marietta OK 73448
END:VEVENT
END:VCALENDAR
