BEGIN:VCALENDAR
PRODID:-//event//iCal4j 1.0//EN
CALSCALE:GREGORIAN
BEGIN:VEVENT
DTSTAMP:20260423T151919Z
DTSTART:20260720T130000Z
DTEND:20260722T220000Z
SUMMARY:leading-without-ego--supervisory-leadership-academy
LOCATION:Kiamichi Technology Center Room 3\, Biz Center Idabel OK 
END:VEVENT
END:VCALENDAR
