BEGIN:VCALENDAR
PRODID:-//event//iCal4j 1.0//EN
CALSCALE:GREGORIAN
BEGIN:VEVENT
DTSTAMP:20260423T145349Z
DTSTART:20260413T130000Z
DTEND:20260413T210000Z
SUMMARY:interactions-with-autism-spectrum-disorder
LOCATION:305 N Broadway St.  Holdenville OK 74848
END:VEVENT
END:VCALENDAR
