BEGIN:VCALENDAR
PRODID:-//event//iCal4j 1.0//EN
CALSCALE:GREGORIAN
BEGIN:VEVENT
DTSTAMP:20260423T210112Z
DTSTART:20260518T130000Z
DTEND:20260522T220000Z
SUMMARY:crisis-intervention-team--cit--training
LOCATION:1763 W. Liberty Rd.  Atoka OK 74525
END:VEVENT
END:VCALENDAR
