BEGIN:VCALENDAR
PRODID:-//event//iCal4j 1.0//EN
CALSCALE:GREGORIAN
BEGIN:VEVENT
DTSTAMP:20260421T180240Z
DTSTART:20261019T130000Z
DTEND:20261023T220000Z
SUMMARY:crisis-intervention-team--cit--training0
LOCATION:307 E Cherokee St.  Wagoner OK 74467
END:VEVENT
END:VCALENDAR
