BEGIN:VCALENDAR
PRODID:-//event//iCal4j 1.0//EN
CALSCALE:GREGORIAN
BEGIN:VEVENT
DTSTAMP:20260423T192926Z
DTSTART:20260420T130000Z
DTEND:20260424T220000Z
SUMMARY:crisis-intervention-team--cit--training
LOCATION:307 E Cherokee St.   Wagoner OK 74467
END:VEVENT
END:VCALENDAR
