BEGIN:VCALENDAR
PRODID:-//event//iCal4j 1.0//EN
CALSCALE:GREGORIAN
BEGIN:VEVENT
DTSTAMP:20260424T004213Z
DTSTART:20260407T140000Z
DTEND:20260407T220000Z
SUMMARY:tactical-finance-class-2-00
LOCATION:Tulsa County Sheriff's Office\, Operations Building 6094 E 66th 
 St N Tulsa OK 
END:VEVENT
END:VCALENDAR
