BEGIN:VCALENDAR
PRODID:-//event//iCal4j 1.0//EN
CALSCALE:GREGORIAN
BEGIN:VEVENT
DTSTAMP:20260423T143222Z
DTSTART:20260330T130000Z
DTEND:20260401T220000Z
SUMMARY:firearms-instructor-phase-2
LOCATION:6094 E 66 St. N  Tulsa OK 74117
END:VEVENT
END:VCALENDAR
