BEGIN:VCALENDAR
PRODID:-//event//iCal4j 1.0//EN
CALSCALE:GREGORIAN
BEGIN:VEVENT
DTSTAMP:20260420T214518Z
DTSTART:20261001T130000Z
DTEND:20261002T220000Z
SUMMARY:pepperball-instructor-and-armorer-s-course
LOCATION:520 Expo Cir. E  Stillwater OK 74075
END:VEVENT
END:VCALENDAR
