BEGIN:VCALENDAR
PRODID:-//event//iCal4j 1.0//EN
CALSCALE:GREGORIAN
BEGIN:VEVENT
DTSTAMP:20260423T142437Z
DTSTART:20260504T130000Z
DTEND:20260505T220000Z
SUMMARY:introduction-to-sexual-assault-investigations
LOCATION:Osage County Sheriff?s Training Center 900 St. Paul Ave Pawhuska
  OK 
END:VEVENT
END:VCALENDAR
