BEGIN:VCALENDAR
PRODID:-//event//iCal4j 1.0//EN
CALSCALE:GREGORIAN
BEGIN:VEVENT
DTSTAMP:20260421T194626Z
DTSTART:20260914T130000Z
DTEND:20260918T220000Z
SUMMARY:crisis-intervention-team--cit--training0
LOCATION:Miami Civic Center 129 5th Ave Miami OK 74354
END:VEVENT
END:VCALENDAR
