BEGIN:VCALENDAR
PRODID:-//event//iCal4j 1.0//EN
CALSCALE:GREGORIAN
BEGIN:VEVENT
DTSTAMP:20260420T195315Z
DTSTART:20260616T133000Z
DTEND:20260616T173000Z
SUMMARY:rcso-below-10011
LOCATION:201 S Cherokee Ave  Claremore OK 74017
END:VEVENT
END:VCALENDAR
