BEGIN:VCALENDAR
PRODID:-//event//iCal4j 1.0//EN
CALSCALE:GREGORIAN
BEGIN:VEVENT
DTSTAMP:20260423T192808Z
DTSTART:20260427T130000Z
DTEND:20260507T220000Z
SUMMARY:fletc-use-of-force-instructor-training-program
LOCATION:201 S Cherokee Ave  Claremore OK 74017
END:VEVENT
END:VCALENDAR
