BEGIN:VCALENDAR
PRODID:-//event//iCal4j 1.0//EN
CALSCALE:GREGORIAN
BEGIN:VEVENT
DTSTAMP:20260423T163152Z
DTSTART:20260504T130000Z
DTEND:20260507T220000Z
SUMMARY:standardized-field-sobriety-test--sfst--and-wet-lab-
LOCATION:114 N Broadway St. Tecumseh City Hall Tecumseh OK 
END:VEVENT
END:VCALENDAR
