BEGIN:VCALENDAR
PRODID:-//event//iCal4j 1.0//EN
CALSCALE:GREGORIAN
BEGIN:VEVENT
DTSTAMP:20260422T164150Z
DTSTART:20260513T130000Z
DTEND:20260514T220000Z
SUMMARY:red-dot-transition-school
LOCATION:Moore Norman Technology Center Indoor Range 5200 12th Ave NW Nor
 man OK 73069
END:VEVENT
END:VCALENDAR
