BEGIN:VCALENDAR
PRODID:-//event//iCal4j 1.0//EN
CALSCALE:GREGORIAN
BEGIN:VEVENT
DTSTAMP:20260423T011546Z
DTSTART:20260825T130000Z
DTEND:20260826T220000Z
SUMMARY:red-dot-sight-transition-training
LOCATION:Moore Norman Technology Center Indoor Range 5200 12th Ave NW Nor
 man OK 73069
END:VEVENT
END:VCALENDAR
