BEGIN:VCALENDAR
PRODID:-//event//iCal4j 1.0//EN
CALSCALE:GREGORIAN
BEGIN:VEVENT
DTSTAMP:20260423T011546Z
DTSTART:20260827T130000Z
DTEND:20260827T220000Z
SUMMARY:low-light-shooting-tactics0
LOCATION:Moore Norman Technology Center Public Safety Indoor Gun Range 52
 00 12th Ave NW Norman OK 73069
END:VEVENT
END:VCALENDAR
