BEGIN:VCALENDAR
PRODID:-//event//iCal4j 1.0//EN
CALSCALE:GREGORIAN
BEGIN:VEVENT
DTSTAMP:20260422T194156Z
DTSTART:20260722T130000Z
DTEND:20260722T220000Z
SUMMARY:low-light-operator
LOCATION:Moore Norman Technology Center Indoor Range 5200 12th Ave NW Nor
 man OK 73069
END:VEVENT
END:VCALENDAR
