BEGIN:VCALENDAR
PRODID:-//event//iCal4j 1.0//EN
CALSCALE:GREGORIAN
BEGIN:VEVENT
DTSTAMP:20260424T185247Z
DTSTART:20261012T130000Z
DTEND:20261013T220000Z
SUMMARY:less-lethal-2-day-instructor-re-qualification-course
LOCATION:2600 W. Franklin Rd.  Norman OK 73069
END:VEVENT
END:VCALENDAR
