BEGIN:VCALENDAR
PRODID:-//event//iCal4j 1.0//EN
CALSCALE:GREGORIAN
BEGIN:VEVENT
DTSTAMP:20260422T194203Z
DTSTART:20260507T140000Z
DTEND:20260507T180000Z
SUMMARY:domestic-violence-awareness-and-response-training
LOCATION:Cleveland County Sheriff's Office Jordan Pyle Training Center 26
 00 W. Franklin Road Norman OK 73069-8012
END:VEVENT
END:VCALENDAR
