BEGIN:VCALENDAR
PRODID:-//event//iCal4j 1.0//EN
CALSCALE:GREGORIAN
BEGIN:VEVENT
DTSTAMP:20260423T052935Z
DTSTART:20260714T120000Z
DTEND:20260716T220000Z
SUMMARY:field-training-officer-s-seminar
LOCATION:Seminar Center\, Canadian Valley Technology Center 6505 E. Hwy 6
 6 El Reno OK 73036
END:VEVENT
END:VCALENDAR
