BEGIN:VCALENDAR
PRODID:-//event//iCal4j 1.0//EN
CALSCALE:GREGORIAN
BEGIN:VEVENT
DTSTAMP:20260423T080223Z
DTSTART:20260512T133000Z
DTEND:20260512T203000Z
SUMMARY:application-of-a-search-warrant
LOCATION:Chickasha Police Department 2001 W. Iowa Ave Chickasha OK 73018
END:VEVENT
END:VCALENDAR
